BEGIN:VCALENDAR
VERSION:2.0
PRODID:-//https://roadglidenationalrally.com/web//NONSGML kigkonsult.se iCalcreator 2.41.71//
CALSCALE:GREGORIAN
METHOD:PUBLISH
UID:66643639-6663-4236-b165-633262653639
X-WR-CALNAME:JCal Pro Calendar
X-WR-CALDESC:Your online events calendar
X-WR-TIMEZONE:UTC
BEGIN:VTIMEZONE
TZID:UTC
END:VTIMEZONE
BEGIN:VEVENT
UID:20260804T140000UTC-9665bMxRDK@https://roadglidenationalrally.com/web/
DTSTAMP:20260422T171505Z
CATEGORIES:RGNR
DTSTART:20260804T140000Z
DTEND:20260807T150000Z
SUMMARY:RGNR 2026 - Loveland CO
URL:https://roadglidenationalrally.com/web/index.php/calendar/18-rgnr/25-rg
 nr-2026-loveland-co
END:VEVENT
END:VCALENDAR
